Workbook

Sheet INSTRUCTIONS
A1: WWW.SIMPLETAXINDIA.NET
A2: REPORT ERROR:raniraj1950@gmail.com | C2: Download calculator for Fy 2017-18
A3: 1 | B3: Only yellow cells to be filled in calculation sheet ,other sheets /cells are protected .If arrear is related to few year only then fill zero in other non required years. | C3: Download Calculator for Fy 2018-19
A4: 2 | B4: Fill M for male and F for female and S for Sr Citizen N for New Tax regime u/s 115 BAC (calculator is not working for very senior citizen).You must select the status in each year. Make sure that status has been selected correctly | C4: Download Calculator for Fy 2019-20
A5: 3 | B5: Fill Total Income excluding arrears ,including all other income and after all the deduction like section 80C,80CC,80D,80G ...........80U etc. | C5: Download Calculator for Fy 2020-21
A6: 4 | B6: Fill year wise break up of arrear received in financial year 2022-23 under respective years.Total will autometically shown under FY 2022-23 | C6: Download Calculator for Fy 2021-22
A7: 5 | B7: Nothing to fill here ,result is out ,if total A >Total B then relief under section 89(1) will be shown ,otherwise 0 will be shown .Further Form 10E with relevant annexure will also be filled automatically including table-1
A8: 6 | B8: Version -1 dated 11-12-2022
A9: 7 | B9: Check HERE if any updated version available.
A10: 8 | B10: Read more FAQ here | C10: Version -1 Dated 11-12-2022
A11: 9 | B11: For any query/error Send mail to raniraj1950@gmail.com or call at 9988800910 | C11: Please support us at UPI ID 9988800910@ybl
A12: 10 | B12: The calculator can be used for arreras rececived in fy 2022-23 and relates to any or all of years from fy 2005-06 to 2021-22.You are required to show data only for relevant years only ,no need to fill irrelevant years. | C12: [file 89(1) form online at Income Tax site otherwise claim will be rejected ]

Sheet calculation
A1: WWW.SIMPLETAXINDIA.NET
A2: REPORT ERROR:RANIRAJ1950 AT GMAIL.COM
A3: Fill yellow cells only
A4: Note | B4: NAME & DESIGNATION | O4: BHANU GUPTA
B5: office/Department | O5: PSPCL | AB5: M
B6: PAN | O6: AAAPG7777R | AB6: F
A7: 2 | B7: M=Male,F=Female,S=Sr Citizen , N=New scheme | C7: M | D7: M | E7: M | F7: M | G7: M | H7: M | I7: M | J7: M | K7: M | L7: M | M7: M | N7: M | O7: M | P7: M | Q7: M | R7: M | S7: M | T7: M | AB7: S
B8: Calculation of Relief under section 89(1) | Y8: M | AB8: N
B9: Financial year | C9: 2022-23 | D9: 2021-22 | E9: 2020-21 | F9: 2019-20 | G9: 2018-19 | H9: 2017-18 | I9: 2016-17 | J9: 2015-16 | K9: 2014-15 | L9: 2013-14 | M9: 2012-13 | N9: 2011-12 | O9: 2010-11 | P9: 2009-10 | Q9: 2008-09 | R9: 2007-08 | S9: 2006-07 | T9: 2005-06 | Y9: S
A10: 3 | B10: Total Income as per Income tax returns excluding arrears | C10: 1000000 | D10: 900000 | E10: 0 | F10: 0 | G10: 0 | H10: 0 | I10: 0 | J10: 0 | K10: 0 | L10: 0 | M10: 0 | N10: 0 | O10: 0 | P10: 0 | Q10: 0 | R10: 0 | S10: 0 | T10: 0 | Y10: F
A11: 4 | B11: Arrears of salary | C11: =SUM(D11:T11) -> 100000 | D11: 100000 | E11: 0 | F11: 0 | G11: 0 | H11: 0 | I11: 0 | J11: 0 | K11: 0 | L11: 0 | M11: 0 | N11: 0 | O11: 0 | P11: 0 | Q11: 0 | R11: 0 | S11: 0 | T11: 0
B12: TAX ON RECEIPT BASIS
B13: Financial year | C13: 2022-23 | D13: 2021-22 | E13: 2020-21 | F13: 2019-20 | G13: 2018-19 | H13: 2017-18 | I13: 2016-17 | J13: 2015-16 | K13: 2014-15 | L13: 2013-14 | M13: 2012-13 | N13: 2011-12 | O13: 2010-11 | P13: 2009-10 | Q13: 2008-09 | R13: 2007-08 | S13: 2006-07 | T13: 2005-06
B14: Total Income excdg arrears | C14: =C10 -> 1000000 | D14: =D10 -> 900000 | E14: =E10 -> 0 | F14: =F10 -> 0 | G14: =G10 -> 0 | H14: =H10 -> 0 | I14: =I10 -> 0 | J14: =J10 -> 0 | ... T14: =T10 -> 0
B15: Add: Arrears of salary | C15: =C11 -> 100000
B16: Total Income | C16: =SUM(C14:C15) -> 1100000 | D16: =SUM(D14:D15) -> 900000 | E16: =SUM(E14:E15) -> 0 | F16: =SUM(F14:F15) -> 0 | G16: =SUM(G14:G15) -> 0 | H16: =SUM(H14:H15) -> 0 | I16: =SUM(I14:I15) -> 0 | J16: =SUM(J14:J15) -> 0 | ... T16: =SUM(T14:T15) -> 0
B17: Tax on total income | C17: =IF(C7="M",C50,IF(C7="F",C51,IF(C7="S",C52,IF(C7="N",C53,"SEL M/F/S")))) -> 142500 | D17: =IF(D7="M",D50,IF(D7="F",D51,IF(D7="S",D52,IF(D7="N",D53,"SEL M/F/S")))) -> 92500 | E17: =IF(E7="M",E50,IF(E7="F",E51,IF(E7="S",E52,IF(E7="N",E53,"SEL M/F/S")))) -> 0 | F17: =IF(F7="M",F50,IF(F7="F",F51,IF(F7="S",F52,"SEL M/F/S"))) -> 0 | G17: =IF(G7="M",G50,IF(G7="F",G51,IF(G7="S",G52,"SEL M/F/S"))) -> 0 | H17: =IF(H7="M",H50,IF(H7="F",H51,IF(H7="S",H52,"SEL M/F/S"))) -> 0 | I17: =IF(I7="M",I50,IF(I7="F",I51,IF(I7="S",I52,"SEL M/F/S"))) -> 0 | J17: =IF(J7="M",J50,IF(J7="F",J51,IF(J7="S",J52,"SEL M/F/S"))) -> 0 | K17: =IF(K7="M",K50,IF(K7="F",K51,IF(K7="S",K52,"SEL M/F/S"))) -> 0 | L17: =IF(L7="M",L50,IF(L7="F",L51,IF(L7="S",L52,"SEL M/F/S"))) -> 0 | M17: =IF(M7="M",M50,IF(M7="F",M51,IF(M7="S",M52,"SEL M/F/S"))) -> 0 | ... T17: =IF(T7="M",T50,IF(T7="F",T51,IF(T7="S",T52,"SEL M/F/S"))) -> 0
B18: Add - Surcharge | C18: =IF(C16<5000001,0,MIN(C17*0.1,(C16-5000000)*0.7)) -> 0 | D18: =IF(D16<5000001,0,MIN(D17*0.1,(D16-5000000)*0.7)) -> 0 | E18: =IF(E16<5000001,0,MIN(E17*0.1,(E16-5000000)*0.7)) -> 0 | F18: =IF(F16<5000001,0,MIN(F17*0.1,(F16-5000000)*0.7)) -> 0 | G18: =IF(G16<5000001,0,MIN(G17*0.1,(G16-5000000)*0.7)) -> 0 | H18: 0 | I18: 0 | J18: 0 | K18: 0 | L18: 0 | M18: 0 | N18: 0 | O18: 0 | P18: 0 | Q18: =IF(Q16>1000000,MIN(ROUND((Q16-1000000)*0.7,2),ROUND(Q17*0.1,2)),0) -> 0 | R18: =IF(R16>1000000,MIN(ROUND((R16-1000000)*0.7,2),ROUND(R17*0.1,2)),0) -> 0 | S18: =IF(S16>1000000,MIN(ROUND((S16-1000000)*0.7,2),ROUND(S17*0.1,2)),0) -> 0 | T18: =IF(T16>1000000,MIN(ROUND((T16-1000000)*0.7,2),ROUND(T17*0.1,2)),0) -> 0
B19: Tax with Surcharge | C19: =SUM(C17:C18) -> 142500 | D19: =SUM(D17:D18) -> 92500 | E19: =SUM(E17:E18) -> 0 | F19: =SUM(F17:F18) -> 0 | G19: =SUM(G17:G18) -> 0 | H19: =SUM(H17:H18) -> 0 | I19: =SUM(I17:I18) -> 0 | J19: =SUM(J17:J18) -> 0 | ... T19: =SUM(T17:T18) -> 0
B20: Add - Education cess | C20: =(C19*0.04) -> 5700 | D20: =(D19*0.04) -> 3700 | E20: =(E19*0.04) -> 0 | F20: =(F19*0.04) -> 0 | G20: =(G19*0.04) -> 0 | H20: =(H19*0.03) -> 0 | I20: =(I19*0.03) -> 0 | J20: =(J19*0.03) -> 0 | K20: =(K19*0.03) -> 0 | L20: =(L19*0.03) -> 0 | M20: =(M19*0.03) -> 0 | N20: =(N19*0.03) -> 0 | O20: =(O19*0.03) -> 0 | ... R20: =(R19*0.03) -> 0 | S20: =(S19*0.02) -> 0 | T20: =(T19*0.02) -> 0
B21: Total tax | C21: =SUM(C19:C20) -> 148200 | D21: =SUM(D19:D20) -> 96200 | E21: =SUM(E19:E20) -> 0 | F21: =SUM(F19:F20) -> 0 | G21: =SUM(G19:G20) -> 0 | H21: =SUM(H19:H20) -> 0 | I21: =SUM(I19:I20) -> 0 | J21: =SUM(J19:J20) -> 0 | ... T21: =SUM(T19:T20) -> 0 | X21: =SUM(Q21:T21) -> 0
B22: TOTAL TAX (A) | T22: =SUM(C21:T21) -> 244400
B23: TAX ON ACCRUAL BASIS
B24: Financial year | C24: 2022-23 | D24: 2021-22 | E24: 2020-21 | F24: 2019-20 | G24: 2018-19 | H24: 2017-18 | I24: 2016-17 | J24: 2015-16 | K24: 2014-15 | L24: 2013-14 | M24: 2012-13 | N24: 2011-12 | O24: 2010-11 | P24: 2009-10 | Q24: 2008-09 | R24: 2007-08 | S24: 2006-07 | T24: 2005-06
B25: Total Income excdg arrears | C25: =C14 -> 1000000 | D25: =D14 -> 900000 | E25: =E14 -> 0 | F25: =F14 -> 0 | G25: =G14 -> 0 | H25: =H14 -> 0 | I25: =I14 -> 0 | J25: =J14 -> 0 | ... T25: =T14 -> 0
B26: Add: Arrears of salary | D26: =D11 -> 100000 | E26: =E11 -> 0 | F26: =F11 -> 0 | G26: =G11 -> 0 | H26: =H11 -> 0 | I26: =I11 -> 0 | J26: =J11 -> 0 | K26: =K11 -> 0 | ... T26: =T11 -> 0 | U26: =SUM(R26:T26) -> 0
B27: Total Income | C27: =SUM(C25:C26) -> 1000000 | D27: =SUM(D25:D26) -> 1000000 | E27: =SUM(E25:E26) -> 0 | F27: =SUM(F25:F26) -> 0 | G27: =SUM(G25:G26) -> 0 | H27: =SUM(H25:H26) -> 0 | I27: =SUM(I25:I26) -> 0 | J27: =SUM(J25:J26) -> 0 | ... T27: =SUM(T25:T26) -> 0
B28: Tax on total income | C28: =IF(C7="M",C56,IF(C7="F",C57,IF(C7="S",C58,IF(C7="N",C59,"SEL M/F/S")))) -> 112500 | D28: =IF(D7="M",D56,IF(D7="F",D57,IF(D7="S",D58,IF(D7="N",D59,"SEL M/F/S")))) -> 112500 | E28: =IF(E7="M",E56,IF(E7="F",E57,IF(E7="S",E58,IF(E7="N",E59,"SEL M/F/S")))) -> 0 | F28: =IF(F7="M",F56,IF(F7="F",F57,IF(F7="S",F58,"SEL M/F/S"))) -> 0 | G28: =IF(G7="M",G56,IF(G7="F",G57,IF(G7="S",G58,"SEL M/F/S"))) -> 0 | H28: =IF(H7="M",H56,IF(H7="F",H57,IF(H7="S",H58,"SEL M/F/S"))) -> 0 | I28: =IF(I7="M",I56,IF(I7="F",I57,IF(I7="S",I58,"SEL M/F/S"))) -> 0 | J28: =IF(J7="M",J56,IF(J7="F",J57,IF(J7="S",J58,"SEL M/F/S"))) -> 0 | K28: =IF(K7="M",K56,IF(K7="F",K57,IF(K7="S",K58,"SEL M/F/S"))) -> 0 | L28: =IF(L7="M",L56,IF(L7="F",L57,IF(L7="S",L58,"SEL M/F/S"))) -> 0 | M28: =IF(M7="M",M56,IF(M7="F",M57,IF(M7="S",M58,"SEL M/F/S"))) -> 0 | ... T28: =IF(T7="M",T56,IF(T7="F",T57,IF(T7="S",T58,"SEL M/F/S"))) -> 0
B29: Add - Surcharge | C29: =IF(C27<5000001,0,MIN(C28*0.1,(C27-5000000)*0.7)) -> 0 | D29: =IF(D27<5000001,0,MIN(D28*0.1,(D27-5000000)*0.7)) -> 0 | E29: =IF(E27<5000001,0,MIN(E28*0.1,(E27-5000000)*0.7)) -> 0 | F29: =IF(F27<5000001,0,MIN(F28*0.1,(F27-5000000)*0.7)) -> 0 | G29: =IF(G27<5000001,0,MIN(G28*0.1,(G27-5000000)*0.7)) -> 0 | H29: 0 | I29: 0 | J29: 0 | K29: 0 | L29: 0 | M29: 0 | N29: 0 | O29: 0 | P29: 0 | Q29: =IF(Q27>1000000,MIN(ROUND((Q27-1000000)*0.7,2),ROUND(Q28*0.1,2)),0) -> 0 | R29: =IF(R27>1000000,MIN(ROUND((R27-1000000)*0.7,2),ROUND(R28*0.1,2)),0) -> 0 | S29: =IF(S27>1000000,MIN(ROUND((S27-1000000)*0.7,2),ROUND(S28*0.1,2)),0) -> 0 | T29: =IF(T27>1000000,MIN(ROUND((T27-1000000)*0.7,2),ROUND(T28*0.1,2)),0) -> 0
B30: Tax with Surcharge | C30: =SUM(C28:C29) -> 112500 | D30: =SUM(D28:D29) -> 112500 | E30: =SUM(E28:E29) -> 0 | F30: =SUM(F28:F29) -> 0 | G30: =SUM(G28:G29) -> 0 | H30: =SUM(H28:H29) -> 0 | I30: =SUM(I28:I29) -> 0 | J30: =SUM(J28:J29) -> 0 | ... T30: =SUM(T28:T29) -> 0
B31: Add - Education cess | C31: =(C30*0.04) -> 4500 | D31: =(D30*0.04) -> 4500 | E31: =(E30*0.04) -> 0 | F31: =(F30*0.04) -> 0 | G31: =(G30*0.04) -> 0 | H31: =(H30*0.03) -> 0 | I31: =(I30*0.03) -> 0 | J31: =(J30*0.03) -> 0 | K31: =(K30*0.03) -> 0 | L31: =(L30*0.03) -> 0 | M31: =(M30*0.03) -> 0 | N31: =(N30*0.03) -> 0 | O31: =(O30*0.03) -> 0 | ... R31: =(R30*0.03) -> 0 | S31: =(S30*0.02) -> 0 | T31: =(T30*0.02) -> 0
B32: Total tax | C32: =SUM(C30:C31) -> 117000 | D32: =SUM(D30:D31) -> 117000 | E32: =SUM(E30:E31) -> 0 | F32: =SUM(F30:F31) -> 0 | G32: =SUM(G30:G31) -> 0 | H32: =SUM(H30:H31) -> 0 | I32: =SUM(I30:I31) -> 0 | J32: =SUM(J30:J31) -> 0 | ... T32: =SUM(T30:T31) -> 0 | X32: =SUM(Q32:T32) -> 0
B33: Total Tax (B) | T33: =SUM(C32:T32) -> 234000
A34: 5 | B34: Relief U/S 89(1) | O34: Total tax (A)- Total Tax (B) | T34: =IF(T33>T22,0,T22-T33) -> 10400
B50: Male | C50: =IF(C$16>1000000,112500+(C$16-1000000)*0.3,IF(C$16>500000,12500+(C$16-500000)*0.2,0)) -> 142500 | D50: =IF(D$16>1000000,112500+(D$16-1000000)*0.3,IF(D$16>500000,12500+(D$16-500000)*0.2,0)) -> 92500 | E50: =IF(E$16>1000000,112500+(E$16-1000000)*0.3,IF(E$16>500000,12500+(E$16-500000)*0.2,0)) -> 0 | F50: =IF(F$16>1000000,112500+(F$16-1000000)*0.3,IF(F$16>500000,12500+(F$16-500000)*0.2,0)) -> 0 | G50: =IF(G$16>1000000,112500+(G$16-1000000)*0.3,IF(G$16>500000,12500+(G$16-500000)*0.2,IF(G$16>250000,(G$16-250000)*0.05,0)))-IF(G$16>350000,0,IF(G$16<250001,0,MIN(2500,(G$16-250000)*0.05))) -> 0 | H50: =IF(H$16>1000000,112500+(H$16-1000000)*0.3,IF(H$16>500000,12500+(H$16-500000)*0.2,IF(H$16>250000,(H$16-250000)*0.05,0)))-IF(H$16>350000,0,IF(H$16<250001,0,MIN(2500,(H$16-250000)*0.05))) -> 0 | I50: =IF(I$16>1000000,125000+(I$16-1000000)*0.3,IF(I$16>500000,25000+(I$16-500000)*0.2,IF(I$16>300000,(I$16-300000)*0.1,0))) -> 0 | J50: =IF(J$16>1000000,125000+(J$16-1000000)*0.3,IF(J$16>500000,25000+(J$16-500000)*0.2,IF(J$16>270000,(J$16-270000)*0.1,0))) -> 0 | K50: =IF(K$16>1000000,125000+(K$16-1000000)*0.3,IF(K$16>500000,25000+(K$16-500000)*0.2,IF(K$16>270000,(K$16-270000)*0.1,0))) -> 0 | L50: =IF(L$16>1000000,130000+(L$16-1000000)*0.3,IF(L$16>500000,30000+(L$16-500000)*0.2,IF(L$16>220000,(L$16-220000)*0.1,0))) -> 0 | M50: =IF(M$16>1000000,130000+(M$16-1000000)*0.3,IF(M$16>500000,30000+(M$16-500000)*0.2,IF(M$16>200000,(M$16-200000)*0.1,0))) -> 0 | N50: =IF(N$16>800000,92000+(N$16-800000)*0.3,IF(N$16>500000,32000+(N$16-500000)*0.2,IF(N$16>180000,(N$16-180000)*0.1,0))) -> 0 | O50: =IF(O$16>800000,94000+(O$16-800000)*0.3,IF(O$16>500000,34000+(O$16-500000)*0.2,IF(O$16>160000,(O$16-160000)*0.1,0))) -> 0 | P50: =IF(P$16>500000,54000+(P$16-500000)*0.3,IF(P$16>300000,14000+(P$16-300000)*0.2,IF(P$16>160000,(P$16-160000)*0.1,0))) -> 0 | Q50: =IF(Q$16>500000,55000+(Q$16-500000)*0.3,IF(Q$16>300000,15000+(Q$16-300000)*0.2,IF(Q$16>150000,(Q$16-150000)*0.1,0))) -> 0 | R50: =IF(R$16>250000,24000+(R$16-250000)*0.3,IF(R$16>150000,4000+(R$16-150000)*0.2,IF(R$16>110000,(R$16-110000)*0.1,0))) -> 0 | S50: =IF(S$16>250000,25000+(S$16-250000)*0.3,IF(S$16>150000,5000+(S$16-150000)*0.2,IF(S$16>100000,(S$16-100000)*0.1,0))) -> 0 | T50: =IF(T$16>250000,25000+(T$16-250000)*0.3,IF(T$16>150000,5000+(T$16-150000)*0.2,IF(T$16>100000,(T$16-100000)*0.1,0))) -> 0
B51: female | C51: =IF(C$16>1000000,112500+(C$16-1000000)*0.3,IF(C$16>500000,12500+(C$16-500000)*0.2,0)) -> 142500 | D51: =IF(D$16>1000000,112500+(D$16-1000000)*0.3,IF(D$16>500000,12500+(D$16-500000)*0.2,0)) -> 92500 | E51: =IF(E$16>1000000,112500+(E$16-1000000)*0.3,IF(E$16>500000,12500+(E$16-500000)*0.2,0)) -> 0 | F51: =IF(F$16>1000000,112500+(F$16-1000000)*0.3,IF(F$16>500000,12500+(F$16-500000)*0.2,0)) -> 0 | G51: =IF(G$16>1000000,112500+(G$16-1000000)*0.3,IF(G$16>500000,12500+(G$16-500000)*0.2,IF(G$16>250000,(G$16-250000)*0.05,0)))-IF(G$16>350000,0,IF(G$16<250001,0,MIN(2500,(G$16-250000)*0.05))) -> 0 | H51: =IF(H$16>1000000,112500+(H$16-1000000)*0.3,IF(H$16>500000,12500+(H$16-500000)*0.2,IF(H$16>250000,(H$16-250000)*0.05,0)))-IF(H$16>350000,0,IF(H$16<250001,0,MIN(2500,(H$16-250000)*0.05))) -> 0 | I51: =IF(I$16>1000000,125000+(I$16-1000000)*0.3,IF(I$16>500000,25000+(I$16-500000)*0.2,IF(I$16>300000,(I$16-300000)*0.1,0))) -> 0 | J51: =IF(J$16>1000000,125000+(J$16-1000000)*0.3,IF(J$16>500000,25000+(J$16-500000)*0.2,IF(J$16>270000,(J$16-270000)*0.1,0))) -> 0 | K51: =IF(K$16>1000000,125000+(K$16-1000000)*0.3,IF(K$16>500000,25000+(K$16-500000)*0.2,IF(K$16>270000,(K$16-270000)*0.1,0))) -> 0 | L51: =IF(L$16>1000000,130000+(L$16-1000000)*0.3,IF(L$16>500000,30000+(L$16-500000)*0.2,IF(L$16>220000,(L$16-220000)*0.1,0))) -> 0 | M51: =IF(M$16>1000000,130000+(M$16-1000000)*0.3,IF(M$16>500000,30000+(M$16-500000)*0.2,IF(M$16>200000,(M$16-200000)*0.1,0))) -> 0 | N51: =IF(N$16>800000,91000+(N$16-800000)*0.3,IF(N$16>500000,31000+(N$16-500000)*0.2,IF(N$16>190000,(N$16-190000)*0.1,0))) -> 0 | O51: =IF(O$16>800000,91000+(O$16-800000)*0.3,IF(O$16>500000,31000+(O$16-500000)*0.2,IF(O$16>190000,(O$16-190000)*0.1,0))) -> 0 | P51: =IF(P$16>500000,51000+(P$16-500000)*0.3,IF(P$16>300000,11000+(P$16-300000)*0.2,IF(P$16>190000,(P$16-190000)*0.1,0))) -> 0 | Q51: =IF(Q$16>500000,52000+(Q$16-500000)*0.3,IF(Q$16>300000,12000+(Q$16-300000)*0.2,IF(Q$16>180000,(Q$16-180000)*0.1,0))) -> 0 | R51: =IF(R$16>250000,20500+(R$16-250000)*0.3,IF(R$16>150000,500+(R$16-150000)*0.2,IF(R$16>145000,(R$16-145000)*0.1,0))) -> 0 | S51: =IF(S$16>250000,21500+(S$16-250000)*0.3,IF(S$16>150000,1500+(S$16-150000)*0.2,IF(S$16>135000,(S$16-135000)*0.1,0))) -> 0 | T51: =IF(T$16>250000,21500+(T$16-250000)*0.3,IF(T$16>150000,1500+(T$16-150000)*0.2,IF(T$16>135000,(T$16-135000)*0.1,0))) -> 0
B52: sr citizen | C52: =IF(C$16>1000000,110000+(C$16-1000000)*0.3,IF(C$16>500000,10000+(C$16-500000)*0.2,0)) -> 140000 | D52: =IF(D$16>1000000,110000+(D$16-1000000)*0.3,IF(D$16>500000,10000+(D$16-500000)*0.2,0)) -> 90000 | E52: =IF(E$16>1000000,110000+(E$16-1000000)*0.3,IF(E$16>500000,10000+(E$16-500000)*0.2,0)) -> 0 | F52: =IF(F$16>1000000,110000+(F$16-1000000)*0.3,IF(F$16>500000,10000+(F$16-500000)*0.2,0)) -> 0 | G52: =IF(G$16>1000000,110000+(G$16-1000000)*0.3,IF(G$16>500000,10000+(G$16-500000)*0.2,IF(G$16>300000,(G$16-300000)*0.05,0)))-IF(G$16>350000,0,IF(G$16<300001,0,MIN(2500,(G$16-300000)*0.05))) -> 0 | H52: =IF(H$16>1000000,110000+(H$16-1000000)*0.3,IF(H$16>500000,10000+(H$16-500000)*0.2,IF(H$16>300000,(H$16-300000)*0.05,0)))-IF(H$16>350000,0,IF(H$16<300001,0,MIN(2500,(H$16-300000)*0.05))) -> 0 | I52: =IF(I$16>1000000,120000+(I$16-1000000)*0.3,IF(I$16>500000,20000+(I$16-500000)*0.2,IF(I$16>350000,(I$16-350000)*0.1,0))) -> 0 | J52: =IF(J$16>1000000,120000+(J$16-1000000)*0.3,IF(J$16>500000,20000+(J$16-500000)*0.2,IF(J$16>320000,(J$16-320000)*0.1,0))) -> 0 | K52: =IF(K$16>1000000,120000+(K$16-1000000)*0.3,IF(K$16>500000,20000+(K$16-500000)*0.2,IF(K$16>320000,(K$16-320000)*0.1,0))) -> 0 | L52: =IF(L$16>1000000,125000+(L$16-1000000)*0.3,IF(L$16>500000,25000+(L$16-500000)*0.2,IF(L$16>270000,(L$16-270000)*0.1,0))) -> 0 | M52: =IF(M$16>1000000,125000+(M$16-1000000)*0.3,IF(M$16>500000,25000+(M$16-500000)*0.2,IF(M$16>250000,(M$16-250000)*0.1,0))) -> 0 | N52: =IF(N$16>800000,85000+(N$16-800000)*0.3,IF(N$16>500000,25000+(N$16-500000)*0.2,IF(N$16>250000,(N$16-250000)*0.1,0))) -> 0 | O52: =IF(O$16>800000,86000+(O$16-800000)*0.3,IF(O$16>500000,26000+(O$16-500000)*0.2,IF(O$16>240000,(O$16-240000)*0.1,0))) -> 0 | P52: =IF(P$16>500000,46000+(P$16-500000)*0.3,IF(P$16>300000,6000+(P$16-300000)*0.2,IF(P$16>240000,(P$16-240000)*0.1,0))) -> 0 | Q52: =IF(Q$16>500000,47500+(Q$16-500000)*0.3,IF(Q$16>300000,7500+(Q$16-300000)*0.2,IF(Q$16>225000,(Q$16-225000)*0.1,0))) -> 0 | R52: =IF(R$16>250000,11000+(R$16-250000)*0.3,IF(R$16>195000,(R$16-195000)*0.2,0)) -> 0 | S52: =IF(S$16>250000,13000+(S$16-250000)*0.3,IF(S$16>185000,(S$16-185000)*0.2,0)) -> 0 | T52: =IF(T$16>250000,13000+(T$16-250000)*0.3,IF(T$16>185000,(T$16-185000)*0.2,0)) -> 0
B53: New scheme | C53: =IF(C16>1500000,187500+(C16-1500000)*0.3,IF(C16>1250000,125000+(C16-1250000)*0.25,IF(C16>1000000,75000+(C16-1000000)*0.2,IF(C16>750000,37500+(C16-750000)*0.15,IF(C16>500000,12500+(C16-500000)*0.1,0))))) -> 95000 | D53: =IF(D16>1500000,187500+(D16-1500000)*0.3,IF(D16>1250000,125000+(D16-1250000)*0.25,IF(D16>1000000,75000+(D16-1000000)*0.2,IF(D16>750000,37500+(D16-750000)*0.15,IF(D16>500000,12500+(D16-500000)*0.1,0))))) -> 60000 | E53: =IF(E16>1500000,187500+(E16-1500000)*0.3,IF(E16>1250000,125000+(E16-1250000)*0.25,IF(E16>1000000,75000+(E16-1000000)*0.2,IF(E16>750000,37500+(E16-750000)*0.15,IF(E16>500000,12500+(E16-500000)*0.1,0))))) -> 0
B56: Male | C56: =IF(C$27>1000000,112500+(C$27-1000000)*0.3,IF(C$27>500000,12500+(C$27-500000)*0.2,0)) -> 112500 | D56: =IF(D$27>1000000,112500+(D$27-1000000)*0.3,IF(D$27>500000,12500+(D$27-500000)*0.2,0)) -> 112500 | E56: =IF(E$27>1000000,112500+(E$27-1000000)*0.3,IF(E$27>500000,12500+(E$27-500000)*0.2,0)) -> 0 | F56: =IF(F$27>1000000,112500+(F$27-1000000)*0.3,IF(F$27>500000,12500+(F$27-500000)*0.2,0)) -> 0 | G56: =IF(G$27>1000000,112500+(G$27-1000000)*0.3,IF(G$27>500000,12500+(G$27-500000)*0.2,IF(G$27>250000,(G$27-250000)*0.05,0)))-IF(G$27>350000,0,IF(G$27<250001,0,MIN(2500,(G$27-250000)*0.05))) -> 0 | H56: =IF(H$27>1000000,112500+(H$27-1000000)*0.3,IF(H$27>500000,12500+(H$27-500000)*0.2,IF(H$27>250000,(H$27-250000)*0.05,0)))-IF(H$27>350000,0,IF(H$27<250001,0,MIN(2500,(H$27-250000)*0.05))) -> 0 | I56: =IF(I$27>1000000,125000+(I$27-1000000)*0.3,IF(I$27>500000,25000+(I$27-500000)*0.2,IF(I$27>300000,(I$27-300000)*0.1,0))) -> 0 | J56: =IF(J$27>1000000,125000+(J$27-1000000)*0.3,IF(J$27>500000,25000+(J$27-500000)*0.2,IF(J$27>270000,(J$27-270000)*0.1,0))) -> 0 | K56: =IF(K$27>1000000,125000+(K$27-1000000)*0.3,IF(K$27>500000,25000+(K$27-500000)*0.2,IF(K$27>270000,(K$27-270000)*0.1,0))) -> 0 | L56: =IF(L$27>1000000,130000+(L$27-1000000)*0.3,IF(L$27>500000,30000+(L$27-500000)*0.2,IF(L$27>220000,(L$27-220000)*0.1,0))) -> 0 | M56: =IF(M$27>1000000,130000+(M$27-1000000)*0.3,IF(M$27>500000,30000+(M$27-500000)*0.2,IF(M$27>200000,(M$27-200000)*0.1,0))) -> 0 | N56: =IF(N$27>800000,92000+(N$27-800000)*0.3,IF(N$27>500000,32000+(N$27-500000)*0.2,IF(N$27>180000,(N$27-180000)*0.1,0))) -> 0 | O56: =IF(O$27>800000,94000+(O$27-800000)*0.3,IF(O$27>500000,34000+(O$27-500000)*0.2,IF(O$27>160000,(O$27-160000)*0.1,0))) -> 0 | P56: =IF(P$27>500000,54000+(P$27-500000)*0.3,IF(P$27>300000,14000+(P$27-300000)*0.2,IF(P$27>160000,(P$27-160000)*0.1,0))) -> 0 | Q56: =IF(Q$27>500000,55000+(Q$27-500000)*0.3,IF(Q$27>300000,15000+(Q$27-300000)*0.2,IF(Q$27>150000,(Q$27-150000)*0.1,0))) -> 0 | R56: =IF(R$27>250000,24000+(R$27-250000)*0.3,IF(R$27>150000,4000+(R$27-150000)*0.2,IF(R$27>110000,(R$27-110000)*0.1,0))) -> 0 | S56: =IF(S$27>250000,25000+(S$27-250000)*0.3,IF(S$27>150000,5000+(S$27-150000)*0.2,IF(S$27>100000,(S$27-100000)*0.1,0))) -> 0 | T56: =IF(T$27>250000,25000+(T$27-250000)*0.3,IF(T$27>150000,5000+(T$27-150000)*0.2,IF(T$27>100000,(T$27-100000)*0.1,0))) -> 0
B57: female | C57: =IF(C$27>1000000,112500+(C$27-1000000)*0.3,IF(C$27>500000,12500+(C$27-500000)*0.2,0)) -> 112500 | D57: =IF(D$27>1000000,112500+(D$27-1000000)*0.3,IF(D$27>500000,12500+(D$27-500000)*0.2,0)) -> 112500 | E57: =IF(E$27>1000000,112500+(E$27-1000000)*0.3,IF(E$27>500000,12500+(E$27-500000)*0.2,0)) -> 0 | F57: =IF(F$27>1000000,112500+(F$27-1000000)*0.3,IF(F$27>500000,12500+(F$27-500000)*0.2,0)) -> 0 | G57: =IF(G$27>1000000,112500+(G$27-1000000)*0.3,IF(G$27>500000,12500+(G$27-500000)*0.2,IF(G$27>250000,(G$27-250000)*0.05,0)))-IF(G$27>350000,0,IF(G$27<250001,0,MIN(2500,(G$27-250000)*0.05))) -> 0 | H57: =IF(H$27>1000000,112500+(H$27-1000000)*0.3,IF(H$27>500000,12500+(H$27-500000)*0.2,IF(H$27>250000,(H$27-250000)*0.05,0)))-IF(H$27>350000,0,IF(H$27<250001,0,MIN(2500,(H$27-250000)*0.05))) -> 0 | I57: =IF(I$27>1000000,125000+(I$27-1000000)*0.3,IF(I$27>500000,25000+(I$27-500000)*0.2,IF(I$27>300000,(I$27-300000)*0.1,0))) -> 0 | J57: =IF(J$27>1000000,125000+(J$27-1000000)*0.3,IF(J$27>500000,25000+(J$27-500000)*0.2,IF(J$27>270000,(J$27-270000)*0.1,0))) -> 0 | K57: =IF(K$27>1000000,125000+(K$27-1000000)*0.3,IF(K$27>500000,25000+(K$27-500000)*0.2,IF(K$27>270000,(K$27-270000)*0.1,0))) -> 0 | L57: =IF(L$27>1000000,130000+(L$27-1000000)*0.3,IF(L$27>500000,30000+(L$27-500000)*0.2,IF(L$27>220000,(L$27-220000)*0.1,0))) -> 0 | M57: =IF(M$27>1000000,130000+(M$27-1000000)*0.3,IF(M$27>500000,30000+(M$27-500000)*0.2,IF(M$27>200000,(M$27-200000)*0.1,0))) -> 0 | N57: =IF(N$27>800000,91000+(N$27-800000)*0.3,IF(N$27>500000,31000+(N$27-500000)*0.2,IF(N$27>190000,(N$27-190000)*0.1,0))) -> 0 | O57: =IF(O$27>800000,91000+(O$27-800000)*0.3,IF(O$27>500000,31000+(O$27-500000)*0.2,IF(O$27>190000,(O$27-190000)*0.1,0))) -> 0 | P57: =IF(P$27>500000,51000+(P$27-500000)*0.3,IF(P$27>300000,11000+(P$27-300000)*0.2,IF(P$27>190000,(P$27-190000)*0.1,0))) -> 0 | Q57: =IF(Q$27>500000,52000+(Q$27-500000)*0.3,IF(Q$27>300000,12000+(Q$27-300000)*0.2,IF(Q$27>180000,(Q$27-180000)*0.1,0))) -> 0 | R57: =IF(R$27>250000,20500+(R$27-250000)*0.3,IF(R$27>150000,500+(R$27-150000)*0.2,IF(R$27>145000,(R$27-145000)*0.1,0))) -> 0 | S57: =IF(S$27>250000,21500+(S$27-250000)*0.3,IF(S$27>150000,1500+(S$27-150000)*0.2,IF(S$27>135000,(S$27-135000)*0.1,0))) -> 0 | T57: =IF(T$27>250000,21500+(T$27-250000)*0.3,IF(T$27>150000,1500+(T$27-150000)*0.2,IF(T$27>135000,(T$27-135000)*0.1,0))) -> 0
...

Sheet Table A
D1: TABLE "A"
C2: [See item 7 of Annexure 1]
A4: Previous year | B4: Total income of the relevent previous year(Rs.) | C4: Salary received in arrears or advance relating to the relevent previous year as mentioned in column (1) (Rs.) | D4: Total income (as increased by salary received in arrears or advance) of the relevent previous year mentioned in column (1) (Rs.) | E4: Tax on total income [as per column (2)-After Rebate and including Edn Cess and Surcharge] (Rs.) | F4: Tax on total income[as per column (4) After Rebate and including Edn Cess and Surcharge] (Rs.) | G4: Difference in tax [Amount under column (6) minus amount under column (5)] (Rs.)
A5: (1) | B5: (2) | C5: (3) | D5: (4) | E5: (5) | F5: (6) | G5: (7)
A6: 2005-06 | B6: =calculation!T27-calculation!T26 -> 0 | C6: =calculation!T26 -> 0 | D6: =IF(B6="","",SUM(B6:C6)) -> 0 | E6: =calculation!T21 -> 0 | F6: =calculation!T32 -> 0 | G6: =F6-E6 -> 0
A7: 2006-07 | B7: =calculation!S27-calculation!S26 -> 0 | C7: =calculation!S26 -> 0 | D7: =IF(B7="","",SUM(B7:C7)) -> 0 | E7: =calculation!S21 -> 0 | F7: =calculation!S32 -> 0 | G7: =F7-E7 -> 0
A8: 2007-08 | B8: =calculation!R27-calculation!R26 -> 0 | C8: =calculation!R26 -> 0 | D8: =IF(B8="","",SUM(B8:C8)) -> 0 | E8: =calculation!R21 -> 0 | F8: =calculation!R32 -> 0 | G8: =F8-E8 -> 0
A9: 2008-09 | B9: =calculation!Q27-calculation!Q26 -> 0 | C9: =calculation!Q26 -> 0 | D9: =IF(B9="","",SUM(B9:C9)) -> 0 | E9: =calculation!Q21 -> 0 | F9: =calculation!Q32 -> 0 | G9: =F9-E9 -> 0
A10: 2009-10 | B10: =calculation!P16 -> 0 | C10: =calculation!P11 -> 0 | D10: =IF(B10="","",SUM(B10:C10)) -> 0 | E10: =calculation!P21 -> 0 | F10: =calculation!P32 -> 0 | G10: =F10-E10 -> 0
A11: 2010-11 | B11: =calculation!O10 -> 0 | C11: =calculation!O11 -> 0 | D11: =IF(B11="","",SUM(B11:C11)) -> 0 | E11: =calculation!O21 -> 0 | F11: =calculation!O32 -> 0 | G11: =F11-E11 -> 0
A12: 2011-12 | B12: =calculation!N25 -> 0 | C12: =calculation!N26 -> 0 | D12: =IF(B12="","",SUM(B12:C12)) -> 0 | E12: =calculation!N21 -> 0 | F12: =calculation!N32 -> 0 | G12: =F12-E12 -> 0
A13: 2012-13 | B13: =calculation!M10 -> 0 | C13: =calculation!M11 -> 0 | D13: =IF(B13="","",SUM(B13:C13)) -> 0 | E13: =calculation!M21 -> 0 | F13: =calculation!M32 -> 0 | G13: =F13-E13 -> 0
A14: 2013-14 | B14: =calculation!L10 -> 0 | C14: =calculation!L11 -> 0 | D14: =IF(B14="","",SUM(B14:C14)) -> 0 | E14: =calculation!L21 -> 0 | F14: =calculation!L32 -> 0 | G14: =F14-E14 -> 0
A15: 2014-15 | B15: =calculation!K10 -> 0 | C15: =calculation!K11 -> 0 | D15: =IF(B15="","",SUM(B15:C15)) -> 0 | E15: =calculation!K21 -> 0 | F15: =calculation!K32 -> 0 | G15: =F15-E15 -> 0
A16: 2015-16 | B16: =calculation!J10 -> 0 | C16: =calculation!J11 -> 0 | D16: =IF(B16="","",SUM(B16:C16)) -> 0 | E16: =calculation!J21 -> 0 | F16: =calculation!J32 -> 0 | G16: =F16-E16 -> 0
A17: 2016-17 | B17: =calculation!I10 -> 0 | C17: =calculation!I11 -> 0 | D17: =IF(B17="","",SUM(B17:C17)) -> 0 | E17: =calculation!I21 -> 0 | F17: =calculation!I32 -> 0 | G17: =F17-E17 -> 0
A18: 2017-18 | B18: =calculation!H10 -> 0 | C18: =calculation!H11 -> 0 | D18: =IF(B18="","",SUM(B18:C18)) -> 0 | E18: =calculation!H21 -> 0 | F18: =calculation!H32 -> 0 | G18: =F18-E18 -> 0
A19: 2018-19 | B19: =calculation!G10 -> 0 | C19: =calculation!G11 -> 0 | D19: =IF(B19="","",SUM(B19:C19)) -> 0 | E19: =calculation!G21 -> 0 | F19: =calculation!G32 -> 0 | G19: =F19-E19 -> 0
A20: 2019-20 | B20: =calculation!F10 -> 0 | C20: =calculation!F11 -> 0 | D20: =IF(B20="","",SUM(B20:C20)) -> 0 | E20: =calculation!F21 -> 0 | F20: =calculation!F32 -> 0 | G20: =F20-E20 -> 0
A21: 2020-21 | B21: =calculation!E10 -> 0 | C21: =calculation!E11 -> 0 | D21: =IF(B21="","",SUM(B21:C21)) -> 0 | E21: =calculation!E21 -> 0 | F21: =calculation!E32 -> 0 | G21: =F21-E21 -> 0
A22: 2021-22 | B22: =calculation!D10 -> 900000 | C22: =calculation!D11 -> 100000 | D22: =IF(B22="","",SUM(B22:C22)) -> 1000000 | E22: =calculation!D21 -> 96200 | F22: =calculation!D32 -> 117000 | G22: =F22-E22 -> 20800
A23: TOTAL | B23: =SUM(B6:B22) -> 900000 | C23: =SUM(C6:C22) -> 100000 | D23: =SUM(D6:D22) -> 1000000 | E23: =SUM(E6:E22) -> 96200 | F23: =SUM(F6:F22) -> 117000 | G23: =SUM(G6:G22) -> 20800
D25: Signature:
A27: Place: | D27: Name: | E27: =calculation!O4 -> BHANU GUPTA
A28: Date: | D28: Dept: | E28: =calculation!O5 -> PSPCL

Sheet Annx I
B1: WWW.SIMPLETAXINDIA.NET
B2: REPORT ERROR:GUPTARAJIN2002@YAHOO.CO.IN
E3: ANNEXURE-I
C4: [See item 2 of Form No.10E]
C5: Arrears or advance salary
B7: Sl No. | C7: Particulars | H7: Amount (Rs.)
B8: 1 | C8: Total income (excluding salary received in arrears or advance) | H8: =calculation!C14 -> 1000000
B9: 2 | C9: Salary received in arrears or advance | H9: =calculation!C15 -> 100000
B10: 3 | C10: Total income (as increased by salary received in arrears or advance) [Add item 1 and item 2] | H10: =SUM(H8:H9) -> 1100000
B11: 4 | C11: Tax on total income [as per item 3] | H11: =calculation!C21 -> 148200
B12: 5 | C12: Tax on total income [as per item 1] | H12: =calculation!C32 -> 117000
B13: 6 | C13: Tax on salary received in arrears or advance [Difference of item 4 and item 5] | H13: =SUM(H11-H12) -> 31200
B14: 7 | C14: Tax computed in accordance with Table "A" [Brought from column 7 of Table A] | H14: ='Table A'!G23 -> 20800
B15: 8 | C15: Relief under Section 89(1) [Indicate difference between the amounts mentioned against item 6 and item 7] | H15: =IF(SUM(H13-H14)<1,0,SUM(H13-H14)) -> 10400
C16: =IF(SUM(H13-H14)<0,"Sorry! No relief available because Sl no. 6 is less than Sl no. 7","")
F19: Signature:
F21: Name: | G21: =calculation!O4 -> BHANU GUPTA
H86: =ROUND(H8,-1) -> 1000000
H87: =IF('___IT calc'!I10>64,IF(H86>250000,ROUND((H86-250000)*0.3+13000,0),IF((H86-185000)*0.2<0,0,ROUND((H86-185000)*0.2,0))),IF(AND('___IT calc'!E9="F",'___IT calc'!I10<65),IF(H86>250000,ROUND((H86-250000)*0.3+21500,0),IF(H86>150000,ROUND((H86-150000)*0.2+1500,0),IF((H86-135000)*0.1<0,0,ROUND((H86-135000)*0.1,0)))),IF(H86>250000,ROUND((H86-250000)*0.3+25000,0),IF(H86>150000,ROUND((H86-150000)*0.2+5000,0),IF((H86-100000)*0.1<0,0,ROUND((H86-100000)*0.1,0)))))) -> 250000
H88: =ROUND(SUM(H87*0.02),0) -> 5000
H89: =SUM(H87:H88) -> 255000

Sheet Form 10E
A1: WWW.SIMPLETAXINDIA.NET
A2: REPORT ERROR:GUPTARAJIN2002@YAHOO.CO.IN
A4: FORM NO.10 E
A5: [See rule 21AA]
B6: Form for furnishing particulars of income under section 192(2A) for the year ending 31 st March, 2023 for claiming relief under section 89(1) by a Government servant or an employee in a 2[company,co-operative society,local authority ,university, institution,association or body]
A7: 1 | B7: Name and address of the employee | C7: =calculation!O4 -> BHANU GUPTA | F7: CUSAT, CUCEK, PULINCUNNOO - 688504
A8: 2 | B8: Permanent account number | C8: =calculation!O6 -> AAAPG7777R | F8: Third | G8: March | H8: 2009
A9: 3 | B9: Residential status | C9: RESIDENT AND ORDINARILY RESIDENT | F9: Fourth | G9: April
B10: Particulars of income referred to in rule 21A of the Income-tax Rules, 1962,during the previous year relevant to assessment year 2023-24(Rs.) | F10: Fifth | G10: May
A11: 1 (a) | B11: Salary received in arrears or in advance in accordance with the provisions of sub-rule (2) of rule 21A. | E11: =calculation!C11 -> 100000 | F11: Sixth | G11: June
A12: (b) | B12: Payment in the nature of gratuity in respect of past services, extending over a period of not less than 5 years in accordance with the provisions of sub-rule (3) of rule 21A. | E12: …Nil… | F12: Seventh | G12: July
A13: (c) | B13: Payment in the nature of compensation from the employer or former employer at or in connection with termination of employment after continuous service of not less than 3 years or where the unexpired portion of term of employment is also not less than 3 ye | E13: …Nil… | F13: Eighth | G13: August
A14: (d) | B14: Payment in commutation of pension in accordance with the provisions of sub-rule (5) of rule 21A | E14: …Nil… | F14: Ninth | G14: September
A15: 2 | B15: Detailed particulars of payments referred to above may be given in Annexure I,II,IIA,III, or IV as the case may be. | F15: Eleventh | G15: November
F16: Twelfth | G16: November
B17: Signature of the employee | D17: …………………………………… | F17: Thriteenth | G17: December
C18: Verification | F18: Fourteenth
A19: I, | B19: =calculation!O4 -> BHANU GUPTA | C19: ,do hereby declare that what is stated above | F19: Fifteenth
B20: is true to the best of my knowledge and belief. | F20: Sixteenth
B21: Verified today, the | D21: Day of | F21: Seventeenth
F22: Eighteenth
F23: Ninteenth
A24: Place: ……………………. | B24: =IF(+'___IT calc'!B58="","",+'___IT calc'!B58) | D24: ……………………………………… | F24: Twentieth
A25: Date:…………………… | B25: =IF(+'___Gr_ salary'!M43="","",+'___Gr_ salary'!M43) | D25: Signature of the employee | F25: Twenty first
F26: Twenty second
F27: Twenty third
F28: Twenty fourth
F29: Twenty fifth
F30: Twenty sixth
F31: Twenty seventh
F32: Twenty eighth
F33: Twenty ninth
F34: Thirtieth
F35: Thirty first

Sheet ___relief BACK

Sheet ___Gr_ salary

Sheet ___IT calc
